BEGIN:VCALENDAR
VERSION:2.0
PRODID:-//147.100.242.15//NONSGML kigkonsult.se iCalcreator 2.41.92//
CALSCALE:GREGORIAN
UID:30336164-6431-4337-b164-326464333533
X-WR-TIMEZONE:Europe/Paris
BEGIN:VTIMEZONE
TZID:Europe/Paris
TZUNTIL:20281029T010000Z
BEGIN:STANDARD
TZNAME:CET
DTSTART:20251026T030000
TZOFFSETFROM:+0200
TZOFFSETTO:+0100
RDATE:20261025T030000
RDATE:20271031T030000
END:STANDARD
BEGIN:DAYLIGHT
TZNAME:CEST
DTSTART:20260329T020000
TZOFFSETFROM:+0100
TZOFFSETTO:+0200
RDATE:20270328T020000
RDATE:20280326T020000
END:DAYLIGHT
END:VTIMEZONE
BEGIN:VEVENT
UID:64376264-6231-4639-b661-386566396361
DTSTAMP:20260420T073134Z
DTSTART:20261014T060000Z
DTEND:20261015T110000Z
LOCATION:Centrale Supélec Campus de Rennes\, Av. de la Boulaie\, 35510 Cess
 on-Sévigné
SUMMARY:9èmes Journées Techniques Interfilières SYSAAF : Génétique et repro
 duction des espèces avicoles\, aquacoles et entomocoles
URL:https://interfilieresysaaf.journees.inrae.fr
END:VEVENT
END:VCALENDAR
